BEGIN:VCALENDAR
VERSION:2.0
PRODID:-//Marion Military Institute - ECPv6.15.20//NONSGML v1.0//EN
CALSCALE:GREGORIAN
METHOD:PUBLISH
X-ORIGINAL-URL:https://staging.marionmilitary.edu
X-WR-CALDESC:Events for Marion Military Institute
REFRESH-INTERVAL;VALUE=DURATION:PT1H
X-Robots-Tag:noindex
X-PUBLISHED-TTL:PT1H
BEGIN:VTIMEZONE
TZID:America/Chicago
BEGIN:DAYLIGHT
TZOFFSETFROM:-0600
TZOFFSETTO:-0500
TZNAME:CDT
DTSTART:20170312T080000
END:DAYLIGHT
BEGIN:STANDARD
TZOFFSETFROM:-0500
TZOFFSETTO:-0600
TZNAME:CST
DTSTART:20171105T070000
END:STANDARD
BEGIN:DAYLIGHT
TZOFFSETFROM:-0600
TZOFFSETTO:-0500
TZNAME:CDT
DTSTART:20180311T080000
END:DAYLIGHT
BEGIN:STANDARD
TZOFFSETFROM:-0500
TZOFFSETTO:-0600
TZNAME:CST
DTSTART:20181104T070000
END:STANDARD
BEGIN:DAYLIGHT
TZOFFSETFROM:-0600
TZOFFSETTO:-0500
TZNAME:CDT
DTSTART:20190310T080000
END:DAYLIGHT
BEGIN:STANDARD
TZOFFSETFROM:-0500
TZOFFSETTO:-0600
TZNAME:CST
DTSTART:20191103T070000
END:STANDARD
END:VTIMEZONE
BEGIN:VEVENT
DTSTART;VALUE=DATE:20180902
DTEND;VALUE=DATE:20180904
DTSTAMP:20260420T203356
CREATED:20180321T235244Z
LAST-MODIFIED:20180523T015300Z
UID:10003956-1535914800-1536001199@staging.marionmilitary.edu
SUMMARY:Labor Day
DESCRIPTION:Holiday for MMI Cadets\, Faculty\, and Staff
URL:https://staging.marionmilitary.edu/event-calendar/labor-day/
CATEGORIES:Holidays and Breaks
END:VEVENT
BEGIN:VEVENT
DTSTART;TZID=America/Chicago:20180908T030000
DTEND;TZID=America/Chicago:20180908T090000
DTSTAMP:20260420T203356
CREATED:20180723T221555Z
LAST-MODIFIED:20180906T010103Z
UID:10003988-1536375600-1536397200@staging.marionmilitary.edu
SUMMARY:Marion Made Challenge
DESCRIPTION:Join us for the second on-campus Obstacle Course Race (OCR)\, with more than 30 obstacles over 3-4 miles. \nREGISTER online: https://www.active.com/marion-al/running/races/marion-made-challenge-at-marion-military-inst-birmingham-2018 
URL:https://staging.marionmilitary.edu/event-calendar/marion-made-challenge/
END:VEVENT
END:VCALENDAR