BEGIN:VCALENDAR
VERSION:2.0
PRODID:-//Marion Military Institute - ECPv6.15.20//NONSGML v1.0//EN
CALSCALE:GREGORIAN
METHOD:PUBLISH
X-ORIGINAL-URL:https://staging.marionmilitary.edu
X-WR-CALDESC:Events for Marion Military Institute
REFRESH-INTERVAL;VALUE=DURATION:PT1H
X-Robots-Tag:noindex
X-PUBLISHED-TTL:PT1H
BEGIN:VTIMEZONE
TZID:America/Chicago
BEGIN:DAYLIGHT
TZOFFSETFROM:-0600
TZOFFSETTO:-0500
TZNAME:CDT
DTSTART:20170312T080000
END:DAYLIGHT
BEGIN:STANDARD
TZOFFSETFROM:-0500
TZOFFSETTO:-0600
TZNAME:CST
DTSTART:20171105T070000
END:STANDARD
BEGIN:DAYLIGHT
TZOFFSETFROM:-0600
TZOFFSETTO:-0500
TZNAME:CDT
DTSTART:20180311T080000
END:DAYLIGHT
BEGIN:STANDARD
TZOFFSETFROM:-0500
TZOFFSETTO:-0600
TZNAME:CST
DTSTART:20181104T070000
END:STANDARD
BEGIN:DAYLIGHT
TZOFFSETFROM:-0600
TZOFFSETTO:-0500
TZNAME:CDT
DTSTART:20190310T080000
END:DAYLIGHT
BEGIN:STANDARD
TZOFFSETFROM:-0500
TZOFFSETTO:-0600
TZNAME:CST
DTSTART:20191103T070000
END:STANDARD
END:VTIMEZONE
BEGIN:VEVENT
DTSTART;TZID=America/Chicago:20180717T130000
DTEND;TZID=America/Chicago:20180717T150000
DTSTAMP:20260420T172740
CREATED:20180707T005348Z
LAST-MODIFIED:20180707T005710Z
UID:10003987-1531832400-1531839600@staging.marionmilitary.edu
SUMMARY:Tallahassee Mixer
DESCRIPTION:Come join us for an evening of fun! Let’s meet in the Capital City for some good eats and cocktails! Catch up with your friends from all over the metro area and learn about the exciting happenings at Marion Military Institute. Dutch Treat. \n 
URL:https://staging.marionmilitary.edu/event-calendar/6091/
LOCATION:Millers Ale House\, 722 Appalachee Pkwy\, Tallahassee\, FL\, 32301\, United States
GEO:30.438743;-84.2722392
X-APPLE-STRUCTURED-LOCATION;VALUE=URI;X-ADDRESS=Millers Ale House 722 Appalachee Pkwy Tallahassee FL 32301 United States;X-APPLE-RADIUS=500;X-TITLE=722 Appalachee Pkwy:geo:-84.2722392,30.438743
END:VEVENT
END:VCALENDAR