BEGIN:VCALENDAR
VERSION:2.0
PRODID:-//Marion Military Institute - ECPv6.15.20//NONSGML v1.0//EN
CALSCALE:GREGORIAN
METHOD:PUBLISH
X-ORIGINAL-URL:https://staging.marionmilitary.edu
X-WR-CALDESC:Events for Marion Military Institute
REFRESH-INTERVAL;VALUE=DURATION:PT1H
X-Robots-Tag:noindex
X-PUBLISHED-TTL:PT1H
BEGIN:VTIMEZONE
TZID:America/Chicago
BEGIN:DAYLIGHT
TZOFFSETFROM:-0600
TZOFFSETTO:-0500
TZNAME:CDT
DTSTART:20200308T080000
END:DAYLIGHT
BEGIN:STANDARD
TZOFFSETFROM:-0500
TZOFFSETTO:-0600
TZNAME:CST
DTSTART:20201101T070000
END:STANDARD
BEGIN:DAYLIGHT
TZOFFSETFROM:-0600
TZOFFSETTO:-0500
TZNAME:CDT
DTSTART:20210314T080000
END:DAYLIGHT
BEGIN:STANDARD
TZOFFSETFROM:-0500
TZOFFSETTO:-0600
TZNAME:CST
DTSTART:20211107T070000
END:STANDARD
BEGIN:DAYLIGHT
TZOFFSETFROM:-0600
TZOFFSETTO:-0500
TZNAME:CDT
DTSTART:20220313T080000
END:DAYLIGHT
BEGIN:STANDARD
TZOFFSETFROM:-0500
TZOFFSETTO:-0600
TZNAME:CST
DTSTART:20221106T070000
END:STANDARD
END:VTIMEZONE
BEGIN:VEVENT
DTSTART;TZID=America/Chicago:20210104T080000
DTEND;TZID=America/Chicago:20210104T170000
DTSTAMP:20260424T140820
CREATED:20200923T133702Z
LAST-MODIFIED:20200923T133702Z
UID:10004204-1609747200-1609779600@staging.marionmilitary.edu
SUMMARY:Athletes Report (except XC)
DESCRIPTION:
URL:https://staging.marionmilitary.edu/event-calendar/athletes-report-except-xc/
END:VEVENT
BEGIN:VEVENT
DTSTART;TZID=America/Chicago:20210111T080000
DTEND;TZID=America/Chicago:20210112T170000
DTSTAMP:20260424T140820
CREATED:20200923T133738Z
LAST-MODIFIED:20200923T133738Z
UID:10004205-1610352000-1610470800@staging.marionmilitary.edu
SUMMARY:Cadet Leadership Reports
DESCRIPTION:
URL:https://staging.marionmilitary.edu/event-calendar/cadet-leadership-reports/
END:VEVENT
BEGIN:VEVENT
DTSTART;TZID=America/Chicago:20210113T080000
DTEND;TZID=America/Chicago:20210113T170000
DTSTAMP:20260424T140820
CREATED:20200923T133819Z
LAST-MODIFIED:20200923T133819Z
UID:10004206-1610524800-1610557200@staging.marionmilitary.edu
SUMMARY:New Cadets Report
DESCRIPTION:
URL:https://staging.marionmilitary.edu/event-calendar/new-cadets-report/
END:VEVENT
BEGIN:VEVENT
DTSTART;TZID=America/Chicago:20210114T080000
DTEND;TZID=America/Chicago:20210115T170000
DTSTAMP:20260424T140820
CREATED:20200923T134006Z
LAST-MODIFIED:20200923T134659Z
UID:10004207-1610611200-1610730000@staging.marionmilitary.edu
SUMMARY:MSIV C-2 Cadets Report
DESCRIPTION:Sophomore (c-2) ECP cadets return for training
URL:https://staging.marionmilitary.edu/event-calendar/msiv-c-2-cadets-report/
END:VEVENT
BEGIN:VEVENT
DTSTART;TZID=America/Chicago:20210116T080000
DTEND;TZID=America/Chicago:20210118T170000
DTSTAMP:20260424T140820
CREATED:20200923T134729Z
LAST-MODIFIED:20200923T134729Z
UID:10004208-1610784000-1610989200@staging.marionmilitary.edu
SUMMARY:Returning Cadets Report
DESCRIPTION:
URL:https://staging.marionmilitary.edu/event-calendar/returning-cadets-report-5/
END:VEVENT
BEGIN:VEVENT
DTSTART;TZID=America/Chicago:20210117T080000
DTEND;TZID=America/Chicago:20210117T170000
DTSTAMP:20260424T140820
CREATED:20200923T135447Z
LAST-MODIFIED:20220911T205212Z
UID:10004216-1610870400-1610902800@staging.marionmilitary.edu
SUMMARY:SAP Cadets Report
DESCRIPTION:Please note that this new SAP report date of SUNDAY\, Jan. 17 replaces the original SAP report dates of 1/14 & 1/15. Contact LTC Bowen with any questions.
URL:https://staging.marionmilitary.edu/event-calendar/sap-cadets-report-2/
END:VEVENT
BEGIN:VEVENT
DTSTART;TZID=America/Chicago:20210119T080000
DTEND;TZID=America/Chicago:20210119T170000
DTSTAMP:20260424T140820
CREATED:20200923T134757Z
LAST-MODIFIED:20210104T180902Z
UID:10004209-1611043200-1611075600@staging.marionmilitary.edu
SUMMARY:Classes Begin
DESCRIPTION:
URL:https://staging.marionmilitary.edu/event-calendar/classes-begin-3/
END:VEVENT
BEGIN:VEVENT
DTSTART;TZID=America/Chicago:20210125T080000
DTEND;TZID=America/Chicago:20210125T170000
DTSTAMP:20260424T140820
CREATED:20200923T134826Z
LAST-MODIFIED:20200923T134826Z
UID:10004210-1611561600-1611594000@staging.marionmilitary.edu
SUMMARY:Last Day of Drop/Add
DESCRIPTION:
URL:https://staging.marionmilitary.edu/event-calendar/last-day-of-drop-add/
END:VEVENT
END:VCALENDAR