BEGIN:VCALENDAR
VERSION:2.0
PRODID:-//Marion Military Institute - ECPv6.15.20//NONSGML v1.0//EN
CALSCALE:GREGORIAN
METHOD:PUBLISH
X-ORIGINAL-URL:https://staging.marionmilitary.edu
X-WR-CALDESC:Events for Marion Military Institute
REFRESH-INTERVAL;VALUE=DURATION:PT1H
X-Robots-Tag:noindex
X-PUBLISHED-TTL:PT1H
BEGIN:VTIMEZONE
TZID:America/Chicago
BEGIN:DAYLIGHT
TZOFFSETFROM:-0600
TZOFFSETTO:-0500
TZNAME:CDT
DTSTART:20170312T080000
END:DAYLIGHT
BEGIN:STANDARD
TZOFFSETFROM:-0500
TZOFFSETTO:-0600
TZNAME:CST
DTSTART:20171105T070000
END:STANDARD
BEGIN:DAYLIGHT
TZOFFSETFROM:-0600
TZOFFSETTO:-0500
TZNAME:CDT
DTSTART:20180311T080000
END:DAYLIGHT
BEGIN:STANDARD
TZOFFSETFROM:-0500
TZOFFSETTO:-0600
TZNAME:CST
DTSTART:20181104T070000
END:STANDARD
BEGIN:DAYLIGHT
TZOFFSETFROM:-0600
TZOFFSETTO:-0500
TZNAME:CDT
DTSTART:20190310T080000
END:DAYLIGHT
BEGIN:STANDARD
TZOFFSETFROM:-0500
TZOFFSETTO:-0600
TZNAME:CST
DTSTART:20191103T070000
END:STANDARD
BEGIN:DAYLIGHT
TZOFFSETFROM:-0600
TZOFFSETTO:-0500
TZNAME:CDT
DTSTART:20200308T080000
END:DAYLIGHT
BEGIN:STANDARD
TZOFFSETFROM:-0500
TZOFFSETTO:-0600
TZNAME:CST
DTSTART:20201101T070000
END:STANDARD
END:VTIMEZONE
BEGIN:VEVENT
DTSTART;TZID=America/Chicago:20181213T060000
DTEND;TZID=America/Chicago:20190109T020000
DTSTAMP:20260423T122340
CREATED:20180926T021038Z
LAST-MODIFIED:20180926T021038Z
UID:10004028-1544680800-1546999200@staging.marionmilitary.edu
SUMMARY:Cadet Christmas Break
DESCRIPTION:
URL:https://staging.marionmilitary.edu/event-calendar/cadet-christmas-break/
CATEGORIES:Holidays and Breaks
END:VEVENT
BEGIN:VEVENT
DTSTART;TZID=America/Chicago:20190106T020000
DTEND;TZID=America/Chicago:20190106T020000
DTSTAMP:20260423T122340
CREATED:20180926T020848Z
LAST-MODIFIED:20180926T020848Z
UID:10004027-1546740000-1546740000@staging.marionmilitary.edu
SUMMARY:ITC Cadre Reports
DESCRIPTION:
URL:https://staging.marionmilitary.edu/event-calendar/itc-cadre-reports-2/
CATEGORIES:Holidays and Breaks
END:VEVENT
BEGIN:VEVENT
DTSTART;TZID=America/Chicago:20190108T020000
DTEND;TZID=America/Chicago:20190108T020000
DTSTAMP:20260423T122340
CREATED:20180926T020723Z
LAST-MODIFIED:20180926T020723Z
UID:10004026-1546912800-1546912800@staging.marionmilitary.edu
SUMMARY:New Cadet Recruits Report
DESCRIPTION:
URL:https://staging.marionmilitary.edu/event-calendar/new-cadet-recruits-report/
END:VEVENT
BEGIN:VEVENT
DTSTART;TZID=America/Chicago:20190108T130000
DTEND;TZID=America/Chicago:20190108T130000
DTSTAMP:20260423T122340
CREATED:20181114T214952Z
LAST-MODIFIED:20181114T214952Z
UID:10004051-1546952400-1546952400@staging.marionmilitary.edu
SUMMARY:Basketball Game - Home
DESCRIPTION:MMI vs. Bevill State Community College
URL:https://staging.marionmilitary.edu/event-calendar/basketball-game-home-10/
LOCATION:Ireland Athletic Center (IAC)
CATEGORIES:Athletics
END:VEVENT
BEGIN:VEVENT
DTSTART;VALUE=DATE:20190109
DTEND;VALUE=DATE:20190111
DTSTAMP:20260423T122340
CREATED:20180523T022028Z
LAST-MODIFIED:20180523T022028Z
UID:10003974-1547056800-1547143199@staging.marionmilitary.edu
SUMMARY:Returning Cadets Report
DESCRIPTION:
URL:https://staging.marionmilitary.edu/event-calendar/returning-cadets-report-3/
END:VEVENT
BEGIN:VEVENT
DTSTART;TZID=America/Chicago:20190112T100000
DTEND;TZID=America/Chicago:20190112T100000
DTSTAMP:20260423T122340
CREATED:20181114T215144Z
LAST-MODIFIED:20181205T030854Z
UID:10004052-1547287200-1547287200@staging.marionmilitary.edu
SUMMARY:Basketball - Away
DESCRIPTION:MMI at Southern Union State Community College
URL:https://staging.marionmilitary.edu/event-calendar/basketball-away-3/
CATEGORIES:Athletics
END:VEVENT
BEGIN:VEVENT
DTSTART;VALUE=DATE:20190113
DTEND;VALUE=DATE:20190115
DTSTAMP:20260423T122340
CREATED:20180523T022651Z
LAST-MODIFIED:20180523T022651Z
UID:10003975-1547402400-1547488799@staging.marionmilitary.edu
SUMMARY:Classes Begin
DESCRIPTION:
URL:https://staging.marionmilitary.edu/event-calendar/classes-begin-2/
END:VEVENT
BEGIN:VEVENT
DTSTART;TZID=America/Chicago:20190114T130000
DTEND;TZID=America/Chicago:20190114T130000
DTSTAMP:20260423T122340
CREATED:20181114T215658Z
LAST-MODIFIED:20181114T215658Z
UID:10004053-1547470800-1547470800@staging.marionmilitary.edu
SUMMARY:Basketball - Home
DESCRIPTION:MMI vs. Wallace State Community College – Hanceville
URL:https://staging.marionmilitary.edu/event-calendar/basketball-home/
CATEGORIES:Athletics
END:VEVENT
BEGIN:VEVENT
DTSTART;TZID=America/Chicago:20190117T133000
DTEND;TZID=America/Chicago:20190117T133000
DTSTAMP:20260423T122340
CREATED:20181114T222934Z
LAST-MODIFIED:20181205T031033Z
UID:10004054-1547731800-1547731800@staging.marionmilitary.edu
SUMMARY:Basketball - Away
DESCRIPTION:MMI at Shelton State Community College
URL:https://staging.marionmilitary.edu/event-calendar/basketball-away-4/
CATEGORIES:Athletics
END:VEVENT
BEGIN:VEVENT
DTSTART;TZID=America/Chicago:20190118T020000
DTEND;TZID=America/Chicago:20190118T110000
DTSTAMP:20260423T122340
CREATED:20180529T201817Z
LAST-MODIFIED:20180529T201817Z
UID:10003986-1547776800-1547809200@staging.marionmilitary.edu
SUMMARY:Drop/Add Ends
DESCRIPTION:
URL:https://staging.marionmilitary.edu/event-calendar/drop-add-ends-3/
END:VEVENT
BEGIN:VEVENT
DTSTART;VALUE=DATE:20190120
DTEND;VALUE=DATE:20190122
DTSTAMP:20260423T122340
CREATED:20180523T022755Z
LAST-MODIFIED:20180523T022755Z
UID:10003976-1548007200-1548093599@staging.marionmilitary.edu
SUMMARY:Martin Luther King\, Jr. Holiday for Returning Cadets\, Faculty\, and Staff
DESCRIPTION:
URL:https://staging.marionmilitary.edu/event-calendar/martin-luther-king-jr-holiday-for-returning-cadets-faculty-and-staff/
CATEGORIES:Holidays and Breaks
END:VEVENT
BEGIN:VEVENT
DTSTART;TZID=America/Chicago:20190122T130000
DTEND;TZID=America/Chicago:20190122T130000
DTSTAMP:20260423T122340
CREATED:20181114T224102Z
LAST-MODIFIED:20181114T224102Z
UID:10004055-1548162000-1548162000@staging.marionmilitary.edu
SUMMARY:Basketball - Home
DESCRIPTION:MMI vs. Snead State Community College
URL:https://staging.marionmilitary.edu/event-calendar/basketball-home-2/
LOCATION:Ireland Athletic Center (IAC)
CATEGORIES:Athletics
END:VEVENT
BEGIN:VEVENT
DTSTART;TZID=America/Chicago:20190124T130000
DTEND;TZID=America/Chicago:20190124T130000
DTSTAMP:20260423T122340
CREATED:20181114T225116Z
LAST-MODIFIED:20181114T225116Z
UID:10004056-1548334800-1548334800@staging.marionmilitary.edu
SUMMARY:Basketball - Home
DESCRIPTION:MMI vs. Lawson State Community College
URL:https://staging.marionmilitary.edu/event-calendar/basketball-home-3/
LOCATION:Ireland Athletic Center (IAC)
CATEGORIES:Athletics
END:VEVENT
BEGIN:VEVENT
DTSTART;TZID=America/Chicago:20190125T073000
DTEND;TZID=America/Chicago:20190125T100000
DTSTAMP:20260423T122340
CREATED:20180830T015759Z
LAST-MODIFIED:20180830T015759Z
UID:10003999-1548401400-1548410400@staging.marionmilitary.edu
SUMMARY:Cresting Ceremony and Parade
DESCRIPTION:After a two-week Intensive Training Cycle at the beginning of each semester\, new “recruits” are welcomed into the Corps of Cadets with a Cresting Ceremony in which freshmen receive the MMI crest to wear on their epilets. A parade will immediately follow the Cresting Ceremony on the Walter C. Givhan Parade Field.
URL:https://staging.marionmilitary.edu/event-calendar/cresting-ceremony-and-parade-2/
END:VEVENT
BEGIN:VEVENT
DTSTART;TZID=America/Chicago:20190128T130000
DTEND;TZID=America/Chicago:20190128T130000
DTSTAMP:20260423T122340
CREATED:20181114T230613Z
LAST-MODIFIED:20181114T230613Z
UID:10004057-1548680400-1548680400@staging.marionmilitary.edu
SUMMARY:Basketball - Away
DESCRIPTION:MMI at Gadsden State Community College
URL:https://staging.marionmilitary.edu/event-calendar/basketball-away-5/
CATEGORIES:Athletics
END:VEVENT
BEGIN:VEVENT
DTSTART;TZID=America/Chicago:20190131T113000
DTEND;TZID=America/Chicago:20190131T133000
DTSTAMP:20260423T122340
CREATED:20181231T235959Z
LAST-MODIFIED:20190111T223935Z
UID:10004137-1548934200-1548941400@staging.marionmilitary.edu
SUMMARY:Daphne Mixer 2019
DESCRIPTION:The MMI Alumni Brigade and area hosts cordially invite you to a happy hour for MMI alumni and friends \nDaphne Bayfront Pavilion\nThursday\, January 31st\n5:30 pm – 7:30 pm \n6200 Bayfront Park Drive\nDaphne\, AL 36526\nCasual
URL:https://staging.marionmilitary.edu/event-calendar/daphnemixer/
LOCATION:Daphne Bayfront Pavilion\, 6200 Bayfront Drive\, Daphne\, AL\, 36526\, United States
CATEGORIES:Alumni
ATTACH;FMTTYPE=image/jpeg:https://staging.marionmilitary.edu/core/uploads/2018/12/Daphne-Bayfront-Park-info.jpg
ORGANIZER;CN="MMI Alumni Affairs":MAILTO:alumni@marionmilitary.edu
GEO:30.6305556;-87.9183333
X-APPLE-STRUCTURED-LOCATION;VALUE=URI;X-ADDRESS=Daphne Bayfront Pavilion 6200 Bayfront Drive Daphne AL 36526 United States;X-APPLE-RADIUS=500;X-TITLE=6200 Bayfront Drive:geo:-87.9183333,30.6305556
END:VEVENT
END:VCALENDAR