BEGIN:VCALENDAR
VERSION:2.0
PRODID:-//Marion Military Institute - ECPv6.15.20//NONSGML v1.0//EN
CALSCALE:GREGORIAN
METHOD:PUBLISH
X-WR-CALNAME:Marion Military Institute
X-ORIGINAL-URL:https://staging.marionmilitary.edu
X-WR-CALDESC:Events for Marion Military Institute
REFRESH-INTERVAL;VALUE=DURATION:PT1H
X-Robots-Tag:noindex
X-PUBLISHED-TTL:PT1H
BEGIN:VTIMEZONE
TZID:America/Chicago
BEGIN:DAYLIGHT
TZOFFSETFROM:-0600
TZOFFSETTO:-0500
TZNAME:CDT
DTSTART:20170312T080000
END:DAYLIGHT
BEGIN:STANDARD
TZOFFSETFROM:-0500
TZOFFSETTO:-0600
TZNAME:CST
DTSTART:20171105T070000
END:STANDARD
BEGIN:DAYLIGHT
TZOFFSETFROM:-0600
TZOFFSETTO:-0500
TZNAME:CDT
DTSTART:20180311T080000
END:DAYLIGHT
BEGIN:STANDARD
TZOFFSETFROM:-0500
TZOFFSETTO:-0600
TZNAME:CST
DTSTART:20181104T070000
END:STANDARD
BEGIN:DAYLIGHT
TZOFFSETFROM:-0600
TZOFFSETTO:-0500
TZNAME:CDT
DTSTART:20190310T080000
END:DAYLIGHT
BEGIN:STANDARD
TZOFFSETFROM:-0500
TZOFFSETTO:-0600
TZNAME:CST
DTSTART:20191103T070000
END:STANDARD
END:VTIMEZONE
BEGIN:VEVENT
DTSTART;VALUE=DATE:20180802
DTEND;VALUE=DATE:20180804
DTSTAMP:20260420T141115
CREATED:20180523T012939Z
LAST-MODIFIED:20180523T012939Z
UID:10003970-1533236400-1533322799@staging.marionmilitary.edu
SUMMARY:USCGA Scholars In-Process
DESCRIPTION:Arrive late on Thursday\, August 2.
URL:https://staging.marionmilitary.edu/event-calendar/uscga-scholars-in-process/
END:VEVENT
BEGIN:VEVENT
DTSTART;TZID=America/Chicago:20180803T110000
DTEND;TZID=America/Chicago:20180805T130000
DTSTAMP:20260420T141115
CREATED:20180801T000816Z
LAST-MODIFIED:20180802T232918Z
UID:10003991-1533294000-1533474000@staging.marionmilitary.edu
SUMMARY:USCGA Scholar Family Weekend
DESCRIPTION:Attn: Coast Guard Academy Scholar (CGAS) families: \nMMI welcomes families of CGAS to visit their cadets on campus Friday Aug. 3 through Sunday Aug. 5. \n  \nFriday\, August 3:  \n4:00- 8:00 pm – Off-Campus dinner leave \nSaturday\, August 4:  \n9:00- 11:00 am – Historic Marion Tour. The tour will begin at 9:00 am at the MMI Chapel and will visit 3-4 historic sites in Marion\, including Reverie\, Siloam Baptist Church\, and the Perry County Historic Museum. \n1:00- 3:00 pm – Marion Civil Rights Trail Tour. The tour will begin at the MMI Chapel at 1:00 pm. \n3:00 -4:00 pm – Coast Guard Day 2018 celebration in the QM. Coast Guard Scholars\, family and friends\, and MMI faculty and staff are welcome to attend. Cake and drinks will be served. Coast Guard Day is celebrated on August 4th. This observance commemorates the 228th anniversary of the founding of the U.S. Coast Guard and the Revenue-Marine in 1790. \nOvernight leave will be granted on Saturday night. All cadets need to be back Sunday\, August 5 by 6:00 pm. We ask that cadets sign in/out at the Guard House for accountability. \n  \nWe look forward to having some of our CGAS families on campus to spend time with their sons and daughters.
URL:https://staging.marionmilitary.edu/event-calendar/cgas-family-day/
END:VEVENT
BEGIN:VEVENT
DTSTART;TZID=America/Chicago:20180803T130000
DTEND;TZID=America/Chicago:20180803T150000
DTSTAMP:20260420T141115
CREATED:20180517T212104Z
LAST-MODIFIED:20180726T004415Z
UID:10003968-1533301200-1533308400@staging.marionmilitary.edu
SUMMARY:Huntsville Send-off Supper
DESCRIPTION:Join us at the Valley Hill Country Club on August 3rd at 6:00 pm for a summer supper and a chance to meet the new crop of cadets from North Alabama!  Reconnect with your area alumni and share all of your “words of wisdom” with the new recruits. Hosted by Curtis & Lani Strange and Jody Sanders. This event is free to cadets and their families.
URL:https://staging.marionmilitary.edu/event-calendar/huntsville-send-off-supper/
LOCATION:Valley Hill Country Club\, 8300 Valley Hill Dr SE\, Huntsville\, AL\, 35802\, United States
ATTACH;FMTTYPE=image/jpeg:https://staging.marionmilitary.edu/core/uploads/2018/05/DSC_9020-e1526573898899.jpg
GEO:34.656601;-86.54456
X-APPLE-STRUCTURED-LOCATION;VALUE=URI;X-ADDRESS=Valley Hill Country Club 8300 Valley Hill Dr SE Huntsville AL 35802 United States;X-APPLE-RADIUS=500;X-TITLE=8300 Valley Hill Dr SE:geo:-86.54456,34.656601
END:VEVENT
BEGIN:VEVENT
DTSTART;VALUE=DATE:20180807
DTEND;VALUE=DATE:20180809
DTSTAMP:20260420T141115
CREATED:20180321T234215Z
LAST-MODIFIED:20180321T234215Z
UID:10003950-1533668400-1533754799@staging.marionmilitary.edu
SUMMARY:ITC Cadre Reports
DESCRIPTION:
URL:https://staging.marionmilitary.edu/event-calendar/itc-cadre-reports/
END:VEVENT
BEGIN:VEVENT
DTSTART;VALUE=DATE:20180812
DTEND;VALUE=DATE:20180814
DTSTAMP:20260420T141115
CREATED:20180517T210453Z
LAST-MODIFIED:20180517T212243Z
UID:10003966-1534100400-1534186799@staging.marionmilitary.edu
SUMMARY:Volunteer for Move in Days 2018
DESCRIPTION:Volunteers Needed for Move-In Days! \nDo you remember your first day as a cadet at MMI? All the new faces\, lots of orders\, and the hair cut! Help make this transition a little easier by helping to welcome new recruits and their families on August 13th and 14th from 8am – 5pm. You will get a chance to meet and talk to all of the new recruits in the air-conditioned uniform department or under the hospitality tent. The Alumni Brigade will host a social for the families and alumni at 5pm on August 13th. All volunteers will receive free MMI merchandise and lunch. Sign up for your shift today!
URL:https://staging.marionmilitary.edu/event-calendar/volunteer-for-move-in-days-2018/2018-08-13/
LOCATION:MMI\, 1101 Washington St\, Marion\, AL\, 36756\, United States
CATEGORIES:Alumni
ATTACH;FMTTYPE=image/jpeg:https://staging.marionmilitary.edu/core/uploads/2017/12/DSC_9428-e1513625277785.jpg
GEO:32.6247265;-87.3184826
X-APPLE-STRUCTURED-LOCATION;VALUE=URI;X-ADDRESS=MMI 1101 Washington St Marion AL 36756 United States;X-APPLE-RADIUS=500;X-TITLE=1101 Washington St:geo:-87.3184826,32.6247265
END:VEVENT
BEGIN:VEVENT
DTSTART;TZID=America/Chicago:20180813T030000
DTEND;TZID=America/Chicago:20180813T120000
DTSTAMP:20260420T141115
CREATED:20180321T234306Z
LAST-MODIFIED:20180807T020415Z
UID:10003951-1534129200-1534161600@staging.marionmilitary.edu
SUMMARY:New LEP/ECP cadets and Athletes report
DESCRIPTION:8:00 am – In-Processing begins at the Library \n11:30 am – Lunch in the dining hall \n3:00 pm – Athlete Parent Briefing in the Chapel \n4:00 pm – Parent Briefing in the Chapel (all parents) \n5:00 pm – BBQ Welcome Dinner on the Quad
URL:https://staging.marionmilitary.edu/event-calendar/lep-ecp-including-athletes-cadets-report/
END:VEVENT
BEGIN:VEVENT
DTSTART;VALUE=DATE:20180813
DTEND;VALUE=DATE:20180815
DTSTAMP:20260420T141115
CREATED:20180517T210453Z
LAST-MODIFIED:20180517T212243Z
UID:10003967-1534186800-1534273199@staging.marionmilitary.edu
SUMMARY:Volunteer for Move in Days 2018
DESCRIPTION:Volunteers Needed for Move-In Days! \nDo you remember your first day as a cadet at MMI? All the new faces\, lots of orders\, and the hair cut! Help make this transition a little easier by helping to welcome new recruits and their families on August 13th and 14th from 8am – 5pm. You will get a chance to meet and talk to all of the new recruits in the air-conditioned uniform department or under the hospitality tent. The Alumni Brigade will host a social for the families and alumni at 5pm on August 13th. All volunteers will receive free MMI merchandise and lunch. Sign up for your shift today!
URL:https://staging.marionmilitary.edu/event-calendar/volunteer-for-move-in-days-2018/2018-08-14/
LOCATION:MMI\, 1101 Washington St\, Marion\, AL\, 36756\, United States
CATEGORIES:Alumni
ATTACH;FMTTYPE=image/jpeg:https://staging.marionmilitary.edu/core/uploads/2017/12/DSC_9428-e1513625277785.jpg
GEO:32.6247265;-87.3184826
X-APPLE-STRUCTURED-LOCATION;VALUE=URI;X-ADDRESS=MMI 1101 Washington St Marion AL 36756 United States;X-APPLE-RADIUS=500;X-TITLE=1101 Washington St:geo:-87.3184826,32.6247265
END:VEVENT
BEGIN:VEVENT
DTSTART;TZID=America/Chicago:20180814T030000
DTEND;TZID=America/Chicago:20180814T130000
DTSTAMP:20260420T141115
CREATED:20180321T234357Z
LAST-MODIFIED:20180731T003537Z
UID:10003952-1534215600-1534251600@staging.marionmilitary.edu
SUMMARY:New SAP Cadets Report
DESCRIPTION:8:00 am – In-Processing begins at the Library \n11:30 am – Lunch in the chow hall \n4:00 pm – SAP Parent Briefing in the Chapel \n6:00 pm – SAP Welcome Reception
URL:https://staging.marionmilitary.edu/event-calendar/sap-cadets-report/
END:VEVENT
BEGIN:VEVENT
DTSTART;VALUE=DATE:20180814
DTEND;VALUE=DATE:20180816
DTSTAMP:20260420T141115
CREATED:20180417T232631Z
LAST-MODIFIED:20180417T232631Z
UID:10003964-1534273200-1534359599@staging.marionmilitary.edu
SUMMARY:Returning Cadets Report
DESCRIPTION:
URL:https://staging.marionmilitary.edu/event-calendar/returning-cadets-report-2/
END:VEVENT
BEGIN:VEVENT
DTSTART;VALUE=DATE:20180819
DTEND;VALUE=DATE:20180821
DTSTAMP:20260420T141115
CREATED:20180321T234439Z
LAST-MODIFIED:20180321T234439Z
UID:10003953-1534705200-1534791599@staging.marionmilitary.edu
SUMMARY:First Day of Classes
DESCRIPTION:
URL:https://staging.marionmilitary.edu/event-calendar/first-day-of-classes/
END:VEVENT
BEGIN:VEVENT
DTSTART;TZID=America/Chicago:20180824T030000
DTEND;TZID=America/Chicago:20180824T120000
DTSTAMP:20260420T141115
CREATED:20180529T201722Z
LAST-MODIFIED:20180529T201722Z
UID:10003985-1535079600-1535112000@staging.marionmilitary.edu
SUMMARY:Drop/Add Ends
DESCRIPTION:
URL:https://staging.marionmilitary.edu/event-calendar/drop-add-ends-2/
END:VEVENT
BEGIN:VEVENT
DTSTART;TZID=America/Chicago:20180831T083000
DTEND;TZID=America/Chicago:20180831T113000
DTSTAMP:20260420T141115
CREATED:20180321T234618Z
LAST-MODIFIED:20180824T021619Z
UID:10003954-1535704200-1535715000@staging.marionmilitary.edu
SUMMARY:Cresting Ceremony and Parade
DESCRIPTION:The fall 2018 Cresting Ceremony will be held on Friday\, August 31\, 2018. The ceremony will begin at 1:30 pm in the Ireland Athletic Center immediately followed by a parade. Family and friends of cadets are welcome to attend. \nCadets are free to leave for the Labor Day weekend after the lowering of the colors on Friday afternoon (immediately after the parade) and should return to campus on Monday\, September 3 by 6:00 pm (student athletes must verify their schedule with coaches).
URL:https://staging.marionmilitary.edu/event-calendar/cresting-ceremony-and-parade/
LOCATION:Ireland Athletic Center (IAC)
END:VEVENT
END:VCALENDAR