BEGIN:VCALENDAR
VERSION:2.0
PRODID:-//Marion Military Institute - ECPv6.15.20//NONSGML v1.0//EN
CALSCALE:GREGORIAN
METHOD:PUBLISH
X-ORIGINAL-URL:https://staging.marionmilitary.edu
X-WR-CALDESC:Events for Marion Military Institute
REFRESH-INTERVAL;VALUE=DURATION:PT1H
X-Robots-Tag:noindex
X-PUBLISHED-TTL:PT1H
BEGIN:VTIMEZONE
TZID:America/Chicago
BEGIN:DAYLIGHT
TZOFFSETFROM:-0600
TZOFFSETTO:-0500
TZNAME:CDT
DTSTART:20160313T080000
END:DAYLIGHT
BEGIN:STANDARD
TZOFFSETFROM:-0500
TZOFFSETTO:-0600
TZNAME:CST
DTSTART:20161106T070000
END:STANDARD
BEGIN:DAYLIGHT
TZOFFSETFROM:-0600
TZOFFSETTO:-0500
TZNAME:CDT
DTSTART:20170312T080000
END:DAYLIGHT
BEGIN:STANDARD
TZOFFSETFROM:-0500
TZOFFSETTO:-0600
TZNAME:CST
DTSTART:20171105T070000
END:STANDARD
BEGIN:DAYLIGHT
TZOFFSETFROM:-0600
TZOFFSETTO:-0500
TZNAME:CDT
DTSTART:20180311T080000
END:DAYLIGHT
BEGIN:STANDARD
TZOFFSETFROM:-0500
TZOFFSETTO:-0600
TZNAME:CST
DTSTART:20181104T070000
END:STANDARD
BEGIN:DAYLIGHT
TZOFFSETFROM:-0600
TZOFFSETTO:-0500
TZNAME:CDT
DTSTART:20190310T080000
END:DAYLIGHT
BEGIN:STANDARD
TZOFFSETFROM:-0500
TZOFFSETTO:-0600
TZNAME:CST
DTSTART:20191103T070000
END:STANDARD
END:VTIMEZONE
BEGIN:VEVENT
DTSTART;VALUE=DATE:20171224
DTEND;VALUE=DATE:20180102
DTSTAMP:20260425T082529
CREATED:20171024T202547Z
LAST-MODIFIED:20171024T202547Z
UID:10003828-1514138400-1514829599@staging.marionmilitary.edu
SUMMARY:MMI Offices Closed
DESCRIPTION:
URL:https://staging.marionmilitary.edu/event-calendar/mmi-offices-closed/
END:VEVENT
BEGIN:VEVENT
DTSTART;VALUE=DATE:20180102
DTEND;VALUE=DATE:20180104
DTSTAMP:20260425T082529
CREATED:20170907T030132Z
LAST-MODIFIED:20170907T030430Z
UID:10003772-1514916000-1515002399@staging.marionmilitary.edu
SUMMARY:New Cadets Arrive on Campus
DESCRIPTION:
URL:https://staging.marionmilitary.edu/event-calendar/new-cadets-arrive-campus/
END:VEVENT
BEGIN:VEVENT
DTSTART;VALUE=DATE:20180103
DTEND;VALUE=DATE:20180105
DTSTAMP:20260425T082529
CREATED:20171024T203042Z
LAST-MODIFIED:20171024T203416Z
UID:10003829-1515002400-1515088799@staging.marionmilitary.edu
SUMMARY:Returning Cadets Report
DESCRIPTION:
URL:https://staging.marionmilitary.edu/event-calendar/returning-cadets-report/
END:VEVENT
BEGIN:VEVENT
DTSTART;TZID=America/Chicago:20180104T083000
DTEND;TZID=America/Chicago:20180104T083000
DTSTAMP:20260425T082529
CREATED:20171101T020241Z
LAST-MODIFIED:20171101T020241Z
UID:10003873-1515054600-1515054600@staging.marionmilitary.edu
SUMMARY:Christmas Break Airport Shuttle Return
DESCRIPTION:For flights arriving before 1400\, the shuttle returning to campus from the Birmingham Airport will load at 1430 at the airport. \nPlease visit the transportation page to make transportation arrangements.
URL:https://staging.marionmilitary.edu/event-calendar/christmas-break-airport-shuttle-return/
CATEGORIES:Holidays and Breaks
END:VEVENT
BEGIN:VEVENT
DTSTART;VALUE=DATE:20180107
DTEND;VALUE=DATE:20180109
DTSTAMP:20260425T082529
CREATED:20170907T030531Z
LAST-MODIFIED:20170907T030719Z
UID:10003773-1515348000-1515434399@staging.marionmilitary.edu
SUMMARY:Classes Begin
DESCRIPTION:
URL:https://staging.marionmilitary.edu/event-calendar/classes-begin/
LOCATION:MMI\, 1101 Washington St\, Marion\, AL\, 36756\, United States
GEO:32.6247265;-87.3184826
X-APPLE-STRUCTURED-LOCATION;VALUE=URI;X-ADDRESS=MMI 1101 Washington St Marion AL 36756 United States;X-APPLE-RADIUS=500;X-TITLE=1101 Washington St:geo:-87.3184826,32.6247265
END:VEVENT
BEGIN:VEVENT
DTSTART;TZID=America/Chicago:20180109T130000
DTEND;TZID=America/Chicago:20180109T130000
DTSTAMP:20260425T082529
CREATED:20171025T013038Z
LAST-MODIFIED:20220911T203942Z
UID:10003853-1515502800-1515502800@staging.marionmilitary.edu
SUMMARY:Men's Basketball- Home
DESCRIPTION:MMI vs. Snead State Community College
URL:https://staging.marionmilitary.edu/event-calendar/mens-basketball-home-4/
CATEGORIES:Athletics
END:VEVENT
BEGIN:VEVENT
DTSTART;TZID=America/Chicago:20180110T083000
DTEND;TZID=America/Chicago:20180110T103000
DTSTAMP:20260425T082529
CREATED:20180911T201052Z
LAST-MODIFIED:20180925T023558Z
UID:10004005-1515573000-1515580200@staging.marionmilitary.edu
SUMMARY:Christmas Break Shuttle Return to MMI
DESCRIPTION:For flights arriving before 1430\, a shuttle from the Birmingham Airport will depart Birmingham at 1430 and arrive at MMI around 1630. \nPlease visit this page to arrange transportation.
URL:https://staging.marionmilitary.edu/event-calendar/christmas-break-shuttle-return-to-mmi/
CATEGORIES:Holidays and Breaks
END:VEVENT
BEGIN:VEVENT
DTSTART;VALUE=DATE:20180111
DTEND;VALUE=DATE:20180113
DTSTAMP:20260425T082529
CREATED:20170907T030911Z
LAST-MODIFIED:20170907T030911Z
UID:10003774-1515693600-1515779999@staging.marionmilitary.edu
SUMMARY:Drop / add Ends
DESCRIPTION:
URL:https://staging.marionmilitary.edu/event-calendar/drop-add-ends/
END:VEVENT
BEGIN:VEVENT
DTSTART;TZID=America/Chicago:20180113T093000
DTEND;TZID=America/Chicago:20180113T103000
DTSTAMP:20260425T082529
CREATED:20171025T013940Z
LAST-MODIFIED:20171025T020407Z
UID:10003857-1515835800-1515839400@staging.marionmilitary.edu
SUMMARY:Men's Basketball- Away
DESCRIPTION:At Bevill State Community College
URL:https://staging.marionmilitary.edu/event-calendar/mens-basketball-away-2/
CATEGORIES:Athletics
END:VEVENT
BEGIN:VEVENT
DTSTART;VALUE=DATE:20180114
DTEND;VALUE=DATE:20180116
DTSTAMP:20260425T082529
CREATED:20170907T030949Z
LAST-MODIFIED:20170907T030949Z
UID:10003775-1515952800-1516039199@staging.marionmilitary.edu
SUMMARY:Martin Luther King Holiday
DESCRIPTION:
URL:https://staging.marionmilitary.edu/event-calendar/martin-luther-king-holiday/
END:VEVENT
BEGIN:VEVENT
DTSTART;TZID=America/Chicago:20180116T130000
DTEND;TZID=America/Chicago:20180116T130000
DTSTAMP:20260425T082529
CREATED:20171025T013150Z
LAST-MODIFIED:20220911T203931Z
UID:10003854-1516107600-1516107600@staging.marionmilitary.edu
SUMMARY:Men's Basketball- Home
DESCRIPTION:MMI vs. Gadsden State Community College
URL:https://staging.marionmilitary.edu/event-calendar/mens-basketball-home-5/
CATEGORIES:Athletics
END:VEVENT
BEGIN:VEVENT
DTSTART;TZID=America/Chicago:20180118T110000
DTEND;TZID=America/Chicago:20180118T120000
DTSTAMP:20260425T082529
CREATED:20171025T014233Z
LAST-MODIFIED:20171025T014233Z
UID:10003858-1516273200-1516276800@staging.marionmilitary.edu
SUMMARY:Men's Basketball- Away
DESCRIPTION:At Wallace State Community College\, Hanceville
URL:https://staging.marionmilitary.edu/event-calendar/mens-basketball-away-3/
CATEGORIES:Athletics
END:VEVENT
BEGIN:VEVENT
DTSTART;VALUE=DATE:20180118
DTEND;VALUE=DATE:20180120
DTSTAMP:20260425T082529
CREATED:20170907T031023Z
LAST-MODIFIED:20170907T031023Z
UID:10003776-1516298400-1516384799@staging.marionmilitary.edu
SUMMARY:Cresting
DESCRIPTION:
URL:https://staging.marionmilitary.edu/event-calendar/cresting/
END:VEVENT
BEGIN:VEVENT
DTSTART;TZID=America/Chicago:20180122T130000
DTEND;TZID=America/Chicago:20180122T130000
DTSTAMP:20260425T082529
CREATED:20171025T013241Z
LAST-MODIFIED:20171115T031749Z
UID:10003855-1516626000-1516626000@staging.marionmilitary.edu
SUMMARY:Men's Basketball- Home
DESCRIPTION:MMI vs. Shelton State Community College
URL:https://staging.marionmilitary.edu/event-calendar/mens-basketball-home-6/
CATEGORIES:Athletics
END:VEVENT
BEGIN:VEVENT
DTSTART;TZID=America/Chicago:20180125T130000
DTEND;TZID=America/Chicago:20180125T140000
DTSTAMP:20260425T082529
CREATED:20171025T014330Z
LAST-MODIFIED:20171025T014330Z
UID:10003859-1516885200-1516888800@staging.marionmilitary.edu
SUMMARY:Men's Basketball- Away
DESCRIPTION:At Lawson State Community College
URL:https://staging.marionmilitary.edu/event-calendar/mens-basketball-away-4/
CATEGORIES:Athletics
END:VEVENT
BEGIN:VEVENT
DTSTART;TZID=America/Chicago:20180129T130000
DTEND;TZID=America/Chicago:20180129T130000
DTSTAMP:20260425T082529
CREATED:20171025T013749Z
LAST-MODIFIED:20220911T203919Z
UID:10003856-1517230800-1517230800@staging.marionmilitary.edu
SUMMARY:Men's Basketball- Home
DESCRIPTION:MMI vs. Southern Union State Community College
URL:https://staging.marionmilitary.edu/event-calendar/mens-basketball-home-7/
CATEGORIES:Athletics
END:VEVENT
BEGIN:VEVENT
DTSTART;TZID=America/Chicago:20180130T110000
DTEND;TZID=America/Chicago:20180130T133000
DTSTAMP:20260425T082529
CREATED:20180103T224432Z
LAST-MODIFIED:20180103T224839Z
UID:10003940-1517310000-1517319000@staging.marionmilitary.edu
SUMMARY:Montgomery Mixer
DESCRIPTION:The Alumni Brigade and Hosts cordially invite you to a happy hour for Central Alabama MMI alumni and friends. \nCentral – River Room \n129 Coosa Street Montgomery\, Alabama 36104 \nTuesday\, January 30th 5:00 pm – 7:30 pm \n 
URL:https://staging.marionmilitary.edu/event-calendar/montgomery-mixer/
END:VEVENT
END:VCALENDAR