BEGIN:VCALENDAR
VERSION:2.0
PRODID:-//Marion Military Institute - ECPv6.15.20//NONSGML v1.0//EN
CALSCALE:GREGORIAN
METHOD:PUBLISH
X-WR-CALNAME:Marion Military Institute
X-ORIGINAL-URL:https://staging.marionmilitary.edu
X-WR-CALDESC:Events for Marion Military Institute
REFRESH-INTERVAL;VALUE=DURATION:PT1H
X-Robots-Tag:noindex
X-PUBLISHED-TTL:PT1H
BEGIN:VTIMEZONE
TZID:America/Chicago
BEGIN:DAYLIGHT
TZOFFSETFROM:-0600
TZOFFSETTO:-0500
TZNAME:CDT
DTSTART:20170312T080000
END:DAYLIGHT
BEGIN:STANDARD
TZOFFSETFROM:-0500
TZOFFSETTO:-0600
TZNAME:CST
DTSTART:20171105T070000
END:STANDARD
BEGIN:DAYLIGHT
TZOFFSETFROM:-0600
TZOFFSETTO:-0500
TZNAME:CDT
DTSTART:20180311T080000
END:DAYLIGHT
BEGIN:STANDARD
TZOFFSETFROM:-0500
TZOFFSETTO:-0600
TZNAME:CST
DTSTART:20181104T070000
END:STANDARD
BEGIN:DAYLIGHT
TZOFFSETFROM:-0600
TZOFFSETTO:-0500
TZNAME:CDT
DTSTART:20190310T080000
END:DAYLIGHT
BEGIN:STANDARD
TZOFFSETFROM:-0500
TZOFFSETTO:-0600
TZNAME:CST
DTSTART:20191103T070000
END:STANDARD
END:VTIMEZONE
BEGIN:VEVENT
DTSTART;TZID=America/Chicago:20181116T060000
DTEND;TZID=America/Chicago:20181125T120000
DTSTAMP:20260423T110545
CREATED:20180321T235517Z
LAST-MODIFIED:20180322T002732Z
UID:10003958-1542348000-1543147200@staging.marionmilitary.edu
SUMMARY:Cadet Thanksgiving Break
DESCRIPTION:
URL:https://staging.marionmilitary.edu/event-calendar/thanksgiving-break/
CATEGORIES:Holidays and Breaks
END:VEVENT
BEGIN:VEVENT
DTSTART;TZID=America/Chicago:20181117T060000
DTEND;TZID=America/Chicago:20181117T143000
DTSTAMP:20260423T110545
CREATED:20180803T202549Z
LAST-MODIFIED:20180904T232706Z
UID:10003992-1542434400-1542465000@staging.marionmilitary.edu
SUMMARY:Dove Shoot Fundraiser
DESCRIPTION:
URL:https://staging.marionmilitary.edu/event-calendar/dove-shoot-2018/
LOCATION:Givhan Land and Cattle Company\, 6900 AL Hwy 5\, Safford\, AL\, 36773\, United States
GEO:32.3207;-87.383
X-APPLE-STRUCTURED-LOCATION;VALUE=URI;X-ADDRESS=Givhan Land and Cattle Company 6900 AL Hwy 5 Safford AL 36773 United States;X-APPLE-RADIUS=500;X-TITLE=6900 AL Hwy 5:geo:-87.383,32.3207
END:VEVENT
BEGIN:VEVENT
DTSTART;TZID=America/Chicago:20181117T093000
DTEND;TZID=America/Chicago:20181117T110000
DTSTAMP:20260423T110545
CREATED:20180928T000715Z
LAST-MODIFIED:20180928T000715Z
UID:10004041-1542447000-1542452400@staging.marionmilitary.edu
SUMMARY:Basketball game- Home
DESCRIPTION:MMI vs. Coastal Alabama – East
URL:https://staging.marionmilitary.edu/event-calendar/basketball-game-home-6/
CATEGORIES:Athletics
END:VEVENT
END:VCALENDAR