BEGIN:VCALENDAR
VERSION:2.0
PRODID:-//Marion Military Institute - ECPv6.15.20//NONSGML v1.0//EN
CALSCALE:GREGORIAN
METHOD:PUBLISH
X-WR-CALNAME:Marion Military Institute
X-ORIGINAL-URL:https://staging.marionmilitary.edu
X-WR-CALDESC:Events for Marion Military Institute
REFRESH-INTERVAL;VALUE=DURATION:PT1H
X-Robots-Tag:noindex
X-PUBLISHED-TTL:PT1H
BEGIN:VTIMEZONE
TZID:America/Chicago
BEGIN:DAYLIGHT
TZOFFSETFROM:-0600
TZOFFSETTO:-0500
TZNAME:CDT
DTSTART:20170312T080000
END:DAYLIGHT
BEGIN:STANDARD
TZOFFSETFROM:-0500
TZOFFSETTO:-0600
TZNAME:CST
DTSTART:20171105T070000
END:STANDARD
BEGIN:DAYLIGHT
TZOFFSETFROM:-0600
TZOFFSETTO:-0500
TZNAME:CDT
DTSTART:20180311T080000
END:DAYLIGHT
BEGIN:STANDARD
TZOFFSETFROM:-0500
TZOFFSETTO:-0600
TZNAME:CST
DTSTART:20181104T070000
END:STANDARD
BEGIN:DAYLIGHT
TZOFFSETFROM:-0600
TZOFFSETTO:-0500
TZNAME:CDT
DTSTART:20190310T080000
END:DAYLIGHT
BEGIN:STANDARD
TZOFFSETFROM:-0500
TZOFFSETTO:-0600
TZNAME:CST
DTSTART:20191103T070000
END:STANDARD
END:VTIMEZONE
BEGIN:VEVENT
DTSTART;VALUE=DATE:20181104
DTEND;VALUE=DATE:20181107
DTSTAMP:20260422T170519
CREATED:20180927T232632Z
LAST-MODIFIED:20180927T232632Z
UID:10004033-1541354400-1541527199@staging.marionmilitary.edu
SUMMARY:Men's Golf
DESCRIPTION:Fall Trojan Invitational (CACC) at Alexander City\, AL
URL:https://staging.marionmilitary.edu/event-calendar/mens-golf-2/
CATEGORIES:Athletics
END:VEVENT
BEGIN:VEVENT
DTSTART;TZID=America/Chicago:20181105T130000
DTEND;TZID=America/Chicago:20181105T130000
DTSTAMP:20260422T170519
CREATED:20180920T014056Z
LAST-MODIFIED:20180920T014056Z
UID:10004025-1541422800-1541422800@staging.marionmilitary.edu
SUMMARY:Basketball game - Home
DESCRIPTION:MMI vs. Enterprise State Community College
URL:https://staging.marionmilitary.edu/event-calendar/basketball-game-home-3/
LOCATION:Ireland Athletic Center (IAC)
CATEGORIES:Athletics
END:VEVENT
END:VCALENDAR