BEGIN:VCALENDAR
VERSION:2.0
PRODID:-//Marion Military Institute - ECPv6.15.20//NONSGML v1.0//EN
CALSCALE:GREGORIAN
METHOD:PUBLISH
X-WR-CALNAME:Marion Military Institute
X-ORIGINAL-URL:https://staging.marionmilitary.edu
X-WR-CALDESC:Events for Marion Military Institute
REFRESH-INTERVAL;VALUE=DURATION:PT1H
X-Robots-Tag:noindex
X-PUBLISHED-TTL:PT1H
BEGIN:VTIMEZONE
TZID:America/Chicago
BEGIN:DAYLIGHT
TZOFFSETFROM:-0600
TZOFFSETTO:-0500
TZNAME:CDT
DTSTART:20170312T080000
END:DAYLIGHT
BEGIN:STANDARD
TZOFFSETFROM:-0500
TZOFFSETTO:-0600
TZNAME:CST
DTSTART:20171105T070000
END:STANDARD
BEGIN:DAYLIGHT
TZOFFSETFROM:-0600
TZOFFSETTO:-0500
TZNAME:CDT
DTSTART:20180311T080000
END:DAYLIGHT
BEGIN:STANDARD
TZOFFSETFROM:-0500
TZOFFSETTO:-0600
TZNAME:CST
DTSTART:20181104T070000
END:STANDARD
BEGIN:DAYLIGHT
TZOFFSETFROM:-0600
TZOFFSETTO:-0500
TZNAME:CDT
DTSTART:20190310T080000
END:DAYLIGHT
BEGIN:STANDARD
TZOFFSETFROM:-0500
TZOFFSETTO:-0600
TZNAME:CST
DTSTART:20191103T070000
END:STANDARD
END:VTIMEZONE
BEGIN:VEVENT
DTSTART;VALUE=DATE:20180215
DTEND;VALUE=DATE:20180217
DTSTAMP:20260422T155147
CREATED:20171110T032632Z
LAST-MODIFIED:20171110T032632Z
UID:10003885-1518717600-1518803999@staging.marionmilitary.edu
SUMMARY:Softball (Away; Time TBA)
DESCRIPTION:At Itawamba Community College.
URL:https://staging.marionmilitary.edu/event-calendar/softball-away-time-tba-6/
CATEGORIES:Athletics
END:VEVENT
BEGIN:VEVENT
DTSTART;TZID=America/Chicago:20180216T060000
DTEND;TZID=America/Chicago:20180216T060000
DTSTAMP:20260422T155147
CREATED:20171115T222332Z
LAST-MODIFIED:20171118T031933Z
UID:10003913-1518760800-1518760800@staging.marionmilitary.edu
SUMMARY:Baseball (Home)
DESCRIPTION:Doubleheader vs. Coastal Alabama Community College- North. Second game to follow at 3:00 p.m.
URL:https://staging.marionmilitary.edu/event-calendar/baseball-home-3/
CATEGORIES:Athletics
END:VEVENT
BEGIN:VEVENT
DTSTART;TZID=America/Chicago:20180216T080000
DTEND;TZID=America/Chicago:20180216T090000
DTSTAMP:20260422T155147
CREATED:20171110T032823Z
LAST-MODIFIED:20171110T032823Z
UID:10003886-1518768000-1518771600@staging.marionmilitary.edu
SUMMARY:Softball (Home)
DESCRIPTION:MMI vs. Southwest Tennessee Community College
URL:https://staging.marionmilitary.edu/event-calendar/softball-home-7/
CATEGORIES:Athletics
END:VEVENT
BEGIN:VEVENT
DTSTART;TZID=America/Chicago:20180216T180000
DTEND;TZID=America/Chicago:20180217T175900
DTSTAMP:20260422T155147
CREATED:20171110T033402Z
LAST-MODIFIED:20171118T040301Z
UID:10003887-1518804000-1518890340@staging.marionmilitary.edu
SUMMARY:Softball (Away; Time TBA)
DESCRIPTION:At Itawamba Community College
URL:https://staging.marionmilitary.edu/event-calendar/softball-away-time-tba-7/
CATEGORIES:Athletics
END:VEVENT
END:VCALENDAR