BEGIN:VCALENDAR
VERSION:2.0
PRODID:-//Marion Military Institute - ECPv6.15.20//NONSGML v1.0//EN
CALSCALE:GREGORIAN
METHOD:PUBLISH
X-ORIGINAL-URL:https://staging.marionmilitary.edu
X-WR-CALDESC:Events for Marion Military Institute
REFRESH-INTERVAL;VALUE=DURATION:PT1H
X-Robots-Tag:noindex
X-PUBLISHED-TTL:PT1H
BEGIN:VTIMEZONE
TZID:America/Chicago
BEGIN:DAYLIGHT
TZOFFSETFROM:-0600
TZOFFSETTO:-0500
TZNAME:CDT
DTSTART:20170312T080000
END:DAYLIGHT
BEGIN:STANDARD
TZOFFSETFROM:-0500
TZOFFSETTO:-0600
TZNAME:CST
DTSTART:20171105T070000
END:STANDARD
BEGIN:DAYLIGHT
TZOFFSETFROM:-0600
TZOFFSETTO:-0500
TZNAME:CDT
DTSTART:20180311T080000
END:DAYLIGHT
BEGIN:STANDARD
TZOFFSETFROM:-0500
TZOFFSETTO:-0600
TZNAME:CST
DTSTART:20181104T070000
END:STANDARD
BEGIN:DAYLIGHT
TZOFFSETFROM:-0600
TZOFFSETTO:-0500
TZNAME:CDT
DTSTART:20190310T080000
END:DAYLIGHT
BEGIN:STANDARD
TZOFFSETFROM:-0500
TZOFFSETTO:-0600
TZNAME:CST
DTSTART:20191103T070000
END:STANDARD
END:VTIMEZONE
BEGIN:VEVENT
DTSTART;TZID=America/Chicago:20180206T060000
DTEND;TZID=America/Chicago:20180206T060000
DTSTAMP:20260423T235732
CREATED:20171115T045113Z
LAST-MODIFIED:20171118T033020Z
UID:10003909-1517896800-1517896800@staging.marionmilitary.edu
SUMMARY:Baseball (Away)
DESCRIPTION:Doubleheader at Bishop State Community College. Second game to follow at 3:00 p.m.
URL:https://staging.marionmilitary.edu/event-calendar/baseball-away-2/
CATEGORIES:Athletics
END:VEVENT
BEGIN:VEVENT
DTSTART;TZID=America/Chicago:20180206T070000
DTEND;TZID=America/Chicago:20180206T080000
DTSTAMP:20260423T235732
CREATED:20171110T024326Z
LAST-MODIFIED:20171118T041309Z
UID:10003880-1517900400-1517904000@staging.marionmilitary.edu
SUMMARY:Softball (Home)
DESCRIPTION:Doubleheader vs. East Mississippi Community College. Second game to follow at 3:00 p.m.
URL:https://staging.marionmilitary.edu/event-calendar/softball-home/
CATEGORIES:Athletics
END:VEVENT
END:VCALENDAR